Workbook

Sheet Beneficiaries
C3: Using Social Register | G3: Data Source: Nigerian Bureau of Statistics (est: 2020) | N3: Data Source: Nigerian Bureau of Statistics | S3: Source: NPC and NBS | T3: https://www.citypopulation.de/php/nigeria-admin.php
N4: 5% of population | Z4: Volume per LGA | AB4: BREAKDOWN OF PHASES
B5: DEPLOYMENT VOLUMES PER STATE | G5: DEPLOYMENT VOLUMES PER STATE | N5: DEPLOYMENT VOLUMES PER STATE | S5: State | T5: LGA | U5: 2006 Census | V5: 2016 Projections | W5: Weighted Avr | X5: Phase 1 | Y5: Phase 2 | Z5: Total
C6: Relief Package Deployment | I6: Relief Package Deployment | N6: Relief Package Deployment | S6: Abia | T6: Aba North | U6: 106844 | V6: 140000 | W6: 0.037560701 | X6: 569.90557 | Y6: 629.74565 | Z6: 1199.6512 | AB6: States | AC6: Population | AD6: Weighted Avr | AE6: Total
B7: States | C7: Total | D7: Phase 1 | E7: Phase 2 | G7: States | H7: Population | I7: Weighted Avr | J7: Total | K7: Phase 1 | L7: Phase 2 | N7: Total | O7: Phase 1 | P7: Phase 2 | S7: Abia | T7: Aba South | U7: 427421 | V7: 559900 | W7: 0.15021597 | X7: 2279.2152 | Y7: 2518.5328 | Z7: 4797.748 | AB7: Phase 1
B8: Abia | C8: 25918 | D8: =([1]Overview!$R$12/([1]Overview!$R$13+[1]Overview!$R$12))*C8 -> #VALUE! | E8: =($R$14/($R$14+$R$13))*C8 -> #DIV/0! | G8: Abia | H8: 3727347 | I8: =H8/SUM($H$8:$H$44) -> 0.019163694 | J8: =ROUND(I8*[1]Overview!$G$7,0) -> 31939 | K8: =([1]Overview!$R$18/([1]Overview!$R$18+[1]Overview!$R$19))*Beneficiaries!J8 -> 15172.922 | L8: =([1]Overview!$R$19/([1]Overview!$R$18+[1]Overview!$R$19))*Beneficiaries!J8 -> 16766.078 | N8: =(H8/[1]Overview!$G$6)*0.05 -> 31061.225 | O8: =([1]Overview!$R$18/([1]Overview!$R$18+[1]Overview!$R$19))*Beneficiaries!N8 -> 14755.926 | P8: =([1]Overview!$R$19/([1]Overview!$R$18+[1]Overview!$R$19))*Beneficiaries!N8 -> 16305.299 | S8: Abia | T8: Arochukwu | U8: 169339 | V8: 221800 | W8: 0.059506882 | X8: 902.89325 | Y8: 997.69704 | Z8: 1900.5903 | AB8: Borno | AC8: 5860183 | AD8: 0.030129407 | AE8: 50216
B9: Adamawa | C9: 32971 | D9: =($R$13/($R$14+$R$13))*C9 -> #DIV/0! | E9: =($R$14/($R$14+$R$13))*C9 -> #DIV/0! | G9: Adamawa | H9: 4248436 | I9: =H9/SUM($H$8:$H$44) -> 0.021842809 | J9: =ROUND(I9*[1]Overview!$G$7,0) -> 36405 | K9: =([1]Overview!$R$18/([1]Overview!$R$18+[1]Overview!$R$19))*Beneficiaries!J9 -> 17294.537 | L9: =([1]Overview!$R$19/([1]Overview!$R$18+[1]Overview!$R$19))*Beneficiaries!J9 -> 19110.463 | N9: =(H9/[1]Overview!$G$6)*0.05 -> 35403.633 | O9: =([1]Overview!$R$18/([1]Overview!$R$18+[1]Overview!$R$19))*Beneficiaries!N9 -> 16818.828 | P9: =([1]Overview!$R$19/([1]Overview!$R$18+[1]Overview!$R$19))*Beneficiaries!N9 -> 18584.805 | S9: Abia | T9: Bende | U9: 192621 | V9: 252300 | W9: 0.067689749 | X9: 1027.0512 | Y9: 1134.8916 | Z9: 2161.9429 | AB9: Ekiti | AC9: 3270798 | AD9: 0.016816404 | AE9: 28027
B10: Akwa Ibom | C10: 60240 | D10: =($R$13/($R$14+$R$13))*C10 -> #DIV/0! | E10: =($R$14/($R$14+$R$13))*C10 -> #DIV/0! | G10: Akwa Ibom | H10: 5482177 | I10: =H10/SUM($H$8:$H$44) -> 0.028185936 | J10: =ROUND(I10*[1]Overview!$G$7,0) -> 46977 | K10: =([1]Overview!$R$18/([1]Overview!$R$18+[1]Overview!$R$19))*Beneficiaries!J10 -> 22316.865 | L10: =([1]Overview!$R$19/([1]Overview!$R$18+[1]Overview!$R$19))*Beneficiaries!J10 -> 24660.135 | N10: =(H10/[1]Overview!$G$6)*0.05 -> 45684.808 | O10: =([1]Overview!$R$18/([1]Overview!$R$18+[1]Overview!$R$19))*Beneficiaries!N10 -> 21702.997 | P10: =([1]Overview!$R$19/([1]Overview!$R$18+[1]Overview!$R$19))*Beneficiaries!N10 -> 23981.812 | S10: Abia | T10: Ikwuano | U10: 137897 | V10: 180600 | W10: 0.048453304 | X10: 735.17818 | Y10: 812.37189 | Z10: 1547.5501 | AB10: Enugu | AC10: 4411119 | AD10: 0.022679223 | AE10: 37799
B11: Anambra | C11: 27112 | D11: =($R$13/($R$14+$R$13))*C11 -> #DIV/0! | E11: =($R$14/($R$14+$R$13))*C11 -> #DIV/0! | G11: Anambra | H11: 5527809 | I11: =H11/SUM($H$8:$H$44) -> 0.028420547 | J11: =ROUND(I11*[1]Overview!$G$7,0) -> 47368 | K11: =([1]Overview!$R$18/([1]Overview!$R$18+[1]Overview!$R$19))*Beneficiaries!J11 -> 22502.613 | L11: =([1]Overview!$R$19/([1]Overview!$R$18+[1]Overview!$R$19))*Beneficiaries!J11 -> 24865.387 | N11: =(H11/[1]Overview!$G$6)*0.05 -> 46065.075 | O11: =([1]Overview!$R$18/([1]Overview!$R$18+[1]Overview!$R$19))*Beneficiaries!N11 -> 21883.646 | P11: =([1]Overview!$R$19/([1]Overview!$R$18+[1]Overview!$R$19))*Beneficiaries!N11 -> 24181.429 | S11: Abia | T11: Isiala-Ngwa North | U11: 154083 | V11: 201800 | W11: 0.054141067 | X11: 821.47817 | Y11: 907.73338 | Z11: 1729.2115 | AB11: FCT | AC11: 3564126 | AD11: 0.018324514 | AE11: 30541
B12: Bauchi | C12: 29981 | D12: =($R$13/($R$14+$R$13))*C12 -> #DIV/0! | E12: =($R$14/($R$14+$R$13))*C12 -> #DIV/0! | G12: Bauchi | H12: 7537314 | I12: =H12/SUM($H$8:$H$44) -> 0.038752169 | J12: =ROUND(I12*[1]Overview!$G$7,0) -> 64587 | K12: =([1]Overview!$R$18/([1]Overview!$R$18+[1]Overview!$R$19))*Beneficiaries!J12 -> 30682.66 | L12: =([1]Overview!$R$19/([1]Overview!$R$18+[1]Overview!$R$19))*Beneficiaries!J12 -> 33904.34 | N12: =(H12/[1]Overview!$G$6)*0.05 -> 62810.95 | O12: =([1]Overview!$R$18/([1]Overview!$R$18+[1]Overview!$R$19))*Beneficiaries!N12 -> 29838.931 | P12: =([1]Overview!$R$19/([1]Overview!$R$18+[1]Overview!$R$19))*Beneficiaries!N12 -> 32972.019 | S12: Abia | T12: Isiala-Ngwa South | U12: 136650 | V12: 179000 | W12: 0.048024039 | X12: 728.66498 | Y12: 805.1748 | Z12: 1533.8398 | AB12: Kano | AC12: 13076892 | AD12: 0.067233225 | AE12: 112055
B13: Bayelsa | C13: 32504 | D13: =($R$13/($R$14+$R$13))*C13 -> #DIV/0! | E13: =($R$14/($R$14+$R$13))*C13 -> #DIV/0! | G13: Bayelsa | H13: 2277961 | I13: =H13/SUM($H$8:$H$44) -> 0.011711855 | J13: =ROUND(I13*[1]Overview!$G$7,0) -> 19520 | K13: =([1]Overview!$R$18/([1]Overview!$R$18+[1]Overview!$R$19))*Beneficiaries!J13 -> 9273.1591 | L13: =([1]Overview!$R$19/([1]Overview!$R$18+[1]Overview!$R$19))*Beneficiaries!J13 -> 10246.841 | N13: =(H13/[1]Overview!$G$6)*0.05 -> 18983.008 | O13: =([1]Overview!$R$18/([1]Overview!$R$18+[1]Overview!$R$19))*Beneficiaries!N13 -> 9018.0562 | P13: =([1]Overview!$R$19/([1]Overview!$R$18+[1]Overview!$R$19))*Beneficiaries!N13 -> 9964.9521 | S13: Abia | T13: Isuikwuato | U13: 115794 | V13: 151700 | W13: 0.040699702 | X13: 617.53339 | Y13: 682.3744 | Z13: 1299.9078 | AB13: Lagos | AC13: 12550598 | AD13: 0.064527349 | AE13: 107546
B14: Benue | C14: 89219 | D14: =($R$13/($R$14+$R$13))*C14 -> #DIV/0! | E14: =($R$14/($R$14+$R$13))*C14 -> #DIV/0! | G14: Benue | H14: 5741815 | I14: =H14/SUM($H$8:$H$44) -> 0.029520833 | J14: =ROUND(I14*[1]Overview!$G$7,0) -> 49201 | K14: =([1]Overview!$R$18/([1]Overview!$R$18+[1]Overview!$R$19))*Beneficiaries!J14 -> 23373.397 | L14: =([1]Overview!$R$19/([1]Overview!$R$18+[1]Overview!$R$19))*Beneficiaries!J14 -> 25827.603 | N14: =(H14/[1]Overview!$G$6)*0.05 -> 47848.458 | O14: =([1]Overview!$R$18/([1]Overview!$R$18+[1]Overview!$R$19))*Beneficiaries!N14 -> 22730.859 | P14: =([1]Overview!$R$19/([1]Overview!$R$18+[1]Overview!$R$19))*Beneficiaries!N14 -> 25117.599 | S14: Abia | T14: Obi Ngwa | U14: 181894 | V14: 238300 | W14: 0.063933679 | X14: 970.06069 | Y14: 1071.9171 | Z14: 2041.9778 | AB14: Ogun | AC14: 5217716 | AD14: 0.026826242 | AE14: 44710
B15: Borno | C15: 4480 | D15: =($R$13/($R$14+$R$13))*C15 -> #DIV/0! | E15: =($R$14/($R$14+$R$13))*C15 -> #DIV/0! | G15: Borno | H15: 5860183 | I15: =H15/SUM($H$8:$H$44) -> 0.030129407 | J15: =ROUND(I15*[1]Overview!$G$7,0) -> 50216 | K15: =([1]Overview!$R$18/([1]Overview!$R$18+[1]Overview!$R$19))*Beneficiaries!J15 -> 23855.582 | L15: =([1]Overview!$R$19/([1]Overview!$R$18+[1]Overview!$R$19))*Beneficiaries!J15 -> 26360.418 | N15: =(H15/[1]Overview!$G$6)*0.05 -> 48834.858 | O15: =([1]Overview!$R$18/([1]Overview!$R$18+[1]Overview!$R$19))*Beneficiaries!N15 -> 23199.458 | P15: =([1]Overview!$R$19/([1]Overview!$R$18+[1]Overview!$R$19))*Beneficiaries!N15 -> 25635.401 | S15: Abia | T15: Ohafia | U15: 245987 | V15: 322200 | W15: 0.08644327 | X15: 1311.597 | Y15: 1449.3146 | Z15: 2760.9116 | AB15: Rivers | AC15: 7303924 | AD15: 0.037552223 | AE15: 62587
B16: Cross River | C16: 17346 | D16: =($R$13/($R$14+$R$13))*C16 -> #DIV/0! | E16: =($R$14/($R$14+$R$13))*C16 -> #DIV/0! | G16: Cross River | H16: 3866269 | I16: =H16/SUM($H$8:$H$44) -> 0.019877944 | J16: =ROUND(I16*[1]Overview!$G$7,0) -> 33130 | K16: =([1]Overview!$R$18/([1]Overview!$R$18+[1]Overview!$R$19))*Beneficiaries!J16 -> 15738.717 | L16: =([1]Overview!$R$19/([1]Overview!$R$18+[1]Overview!$R$19))*Beneficiaries!J16 -> 17391.283 | N16: =(H16/[1]Overview!$G$6)*0.05 -> 32218.908 | O16: =([1]Overview!$R$18/([1]Overview!$R$18+[1]Overview!$R$19))*Beneficiaries!N16 -> 15305.895 | P16: =([1]Overview!$R$19/([1]Overview!$R$18+[1]Overview!$R$19))*Beneficiaries!N16 -> 16913.014 | S16: Abia | T16: Osisioma Ngwa | U16: 220662 | V16: 289100 | W16: 0.077562847 | X16: 1176.855 | Y16: 1300.4248 | Z16: 2477.2798 | AB16: Phase 2
B17: Delta | C17: 19064 | D17: =($R$13/($R$14+$R$13))*C17 -> #DIV/0! | E17: =($R$14/($R$14+$R$13))*C17 -> #DIV/0! | G17: Delta | H17: 5663262 | I17: =H17/SUM($H$8:$H$44) -> 0.029116962 | J17: =ROUND(I17*[1]Overview!$G$7,0) -> 48528 | K17: =([1]Overview!$R$18/([1]Overview!$R$18+[1]Overview!$R$19))*Beneficiaries!J17 -> 23053.682 | L17: =([1]Overview!$R$19/([1]Overview!$R$18+[1]Overview!$R$19))*Beneficiaries!J17 -> 25474.318 | N17: =(H17/[1]Overview!$G$6)*0.05 -> 47193.85 | O17: =([1]Overview!$R$18/([1]Overview!$R$18+[1]Overview!$R$19))*Beneficiaries!N17 -> 22419.881 | P17: =([1]Overview!$R$19/([1]Overview!$R$18+[1]Overview!$R$19))*Beneficiaries!N17 -> 24773.969 | S17: Abia | T17: Ugwunagbo | U17: 85371 | V17: 111800 | W17: 0.029994902 | X17: 455.1103 | Y17: 502.89689 | Z17: 958.00719 | AB17: Bauchi | AC17: 7537314 | AD17: 0.038752169 | AE17: 64587
B18: Ebonyi* | C18: 19641 | D18: =($R$13/($R$14+$R$13))*C18 -> #DIV/0! | E18: =($R$14/($R$14+$R$13))*C18 -> #DIV/0! | G18: Ebonyi | H18: 2880383 | I18: =H18/SUM($H$8:$H$44) -> 0.014809133 | J18: =ROUND(I18*[1]Overview!$G$7,0) -> 24682 | K18: =([1]Overview!$R$18/([1]Overview!$R$18+[1]Overview!$R$19))*Beneficiaries!J18 -> 11725.416 | L18: =([1]Overview!$R$19/([1]Overview!$R$18+[1]Overview!$R$19))*Beneficiaries!J18 -> 12956.584 | N18: =(H18/[1]Overview!$G$6)*0.05 -> 24003.192 | O18: =([1]Overview!$R$18/([1]Overview!$R$18+[1]Overview!$R$19))*Beneficiaries!N18 -> 11402.941 | P18: =([1]Overview!$R$19/([1]Overview!$R$18+[1]Overview!$R$19))*Beneficiaries!N18 -> 12600.25 | S18: Abia | T18: Ukwa East | U18: 58139 | V18: 76200 | W18: 0.020443753 | X18: 310.19146 | Y18: 342.76156 | Z18: 652.95302 | AB18: Benue | AC18: 5741815 | AD18: 0.029520833 | AE18: 49201
B19: Enugu | C19: 4327 | D19: =($R$13/($R$14+$R$13))*C19 -> #DIV/0! | E19: =($R$14/($R$14+$R$13))*C19 -> #DIV/0! | G19: Enugu | H19: 4411119 | I19: =H19/SUM($H$8:$H$44) -> 0.022679223 | J19: =ROUND(I19*[1]Overview!$G$7,0) -> 37799 | K19: =([1]Overview!$R$18/([1]Overview!$R$18+[1]Overview!$R$19))*Beneficiaries!J19 -> 17956.77 | L19: =([1]Overview!$R$19/([1]Overview!$R$18+[1]Overview!$R$19))*Beneficiaries!J19 -> 19842.23 | N19: =(H19/[1]Overview!$G$6)*0.05 -> 36759.325 | O19: =([1]Overview!$R$18/([1]Overview!$R$18+[1]Overview!$R$19))*Beneficiaries!N19 -> 17462.862 | P19: =([1]Overview!$R$19/([1]Overview!$R$18+[1]Overview!$R$19))*Beneficiaries!N19 -> 19296.463 | S19: Abia | T19: Ukwa West | U19: 87367 | V19: 114400 | W19: 0.030692458 | X19: 465.69426 | Y19: 514.59216 | Z19: 980.28643 | AB19: Edo | AC19: 4235595 | AD19: 0.021776788 | AE19: 36295
B20: Edo | C20: 27183 | D20: =($R$13/($R$14+$R$13))*C20 -> #DIV/0! | E20: =($R$14/($R$14+$R$13))*C20 -> #DIV/0! | G20: Edo | H20: 4235595 | I20: =H20/SUM($H$8:$H$44) -> 0.021776788 | J20: =ROUND(I20*[1]Overview!$G$7,0) -> 36295 | K20: =([1]Overview!$R$18/([1]Overview!$R$18+[1]Overview!$R$19))*Beneficiaries!J20 -> 17242.28 | L20: =([1]Overview!$R$19/([1]Overview!$R$18+[1]Overview!$R$19))*Beneficiaries!J20 -> 19052.72 | N20: =(H20/[1]Overview!$G$6)*0.05 -> 35296.625 | O20: =([1]Overview!$R$18/([1]Overview!$R$18+[1]Overview!$R$19))*Beneficiaries!N20 -> 16767.993 | P20: =([1]Overview!$R$19/([1]Overview!$R$18+[1]Overview!$R$19))*Beneficiaries!N20 -> 18528.632 | S20: Abia | T20: Umuahia North | U20: 223134 | V20: 292300 | W20: 0.078421377 | X20: 1189.8814 | Y20: 1314.819 | Z20: 2504.7004 | AB20: Kaduna | AC20: 8252366 | AD20: 0.04242852 | AE20: 70714
B21: Ekiti | C21: 9500 | D21: =($R$13/($R$14+$R$13))*C21 -> #DIV/0! | E21: =($R$14/($R$14+$R$13))*C21 -> #DIV/0! | G21: Ekiti | H21: 3270798 | I21: =H21/SUM($H$8:$H$44) -> 0.016816404 | J21: =ROUND(I21*[1]Overview!$G$7,0) -> 28027 | K21: =([1]Overview!$R$18/([1]Overview!$R$18+[1]Overview!$R$19))*Beneficiaries!J21 -> 13314.489 | L21: =([1]Overview!$R$19/([1]Overview!$R$18+[1]Overview!$R$19))*Beneficiaries!J21 -> 14712.511 | N21: =(H21/[1]Overview!$G$6)*0.05 -> 27256.65 | O21: =([1]Overview!$R$18/([1]Overview!$R$18+[1]Overview!$R$19))*Beneficiaries!N21 -> 12948.527 | P21: =([1]Overview!$R$19/([1]Overview!$R$18+[1]Overview!$R$19))*Beneficiaries!N21 -> 14308.123 | S21: Abia | T21: Umuahia South | U21: 139058 | V21: 182200 | W21: 0.048882569 | X21: 741.69139 | Y21: 819.56899 | Z21: 1561.2604 | AB21: Kwara | AC21: 3192893 | AD21: 0.016415865 | AE21: 27360
B22: FCT | C22: 26068 | D22: =($R$13/($R$14+$R$13))*C22 -> #DIV/0! | E22: =($R$14/($R$14+$R$13))*C22 -> #DIV/0! | G22: FCT | H22: 3564126 | I22: =H22/SUM($H$8:$H$44) -> 0.018324514 | J22: =ROUND(I22*[1]Overview!$G$7,0) -> 30541 | K22: =([1]Overview!$R$18/([1]Overview!$R$18+[1]Overview!$R$19))*Beneficiaries!J22 -> 14508.789 | L22: =([1]Overview!$R$19/([1]Overview!$R$18+[1]Overview!$R$19))*Beneficiaries!J22 -> 16032.211 | N22: =(H22/[1]Overview!$G$6)*0.05 -> 29701.05 | O22: =([1]Overview!$R$18/([1]Overview!$R$18+[1]Overview!$R$19))*Beneficiaries!N22 -> 14109.762 | P22: =([1]Overview!$R$19/([1]Overview!$R$18+[1]Overview!$R$19))*Beneficiaries!N22 -> 15591.288 | S22: Abia | T22: Umu-Nneochi | U22: 163119 | V22: 213700 | W22: 0.057333727 | X22: 869.92014 | Y22: 961.26176 | Z22: 1831.1819 | AB22: Oyo | AC22: 7840864 | AD22: 0.040312834 | AE22: 67188
B23: Gombe | C23: 20097 | D23: =($R$13/($R$14+$R$13))*C23 -> #DIV/0! | E23: =($R$14/($R$14+$R$13))*C23 -> #DIV/0! | G23: Gombe | H23: 3256962 | I23: =H23/SUM($H$8:$H$44) -> 0.016745268 | J23: =ROUND(I23*[1]Overview!$G$7,0) -> 27909 | K23: =([1]Overview!$R$18/([1]Overview!$R$18+[1]Overview!$R$19))*Beneficiaries!J23 -> 13258.432 | L23: =([1]Overview!$R$19/([1]Overview!$R$18+[1]Overview!$R$19))*Beneficiaries!J23 -> 14650.568 | N23: =(H23/[1]Overview!$G$6)*0.05 -> 27141.35 | O23: =([1]Overview!$R$18/([1]Overview!$R$18+[1]Overview!$R$19))*Beneficiaries!N23 -> 12893.753 | P23: =([1]Overview!$R$19/([1]Overview!$R$18+[1]Overview!$R$19))*Beneficiaries!N23 -> 14247.597 | S23: Adamawa | T23: Demsa | U23: 178407 | V23: 238400 | W23: 0.056117885 | X23: 970.53283 | Y23: 1072.4388 | Z23: 2042.9716 | AB23: Ondo | AC23: 4671695 | AD23: 0.024018943 | AE23: 40032
B24: Imo | C24: 15349 | D24: =($R$13/($R$14+$R$13))*C24 -> #DIV/0! | E24: =($R$14/($R$14+$R$13))*C24 -> #DIV/0! | G24: Imo | H24: 5408756 | I24: =H24/SUM($H$8:$H$44) -> 0.027808451 | J24: =ROUND(I24*[1]Overview!$G$7,0) -> 46347 | K24: =([1]Overview!$R$18/([1]Overview!$R$18+[1]Overview!$R$19))*Beneficiaries!J24 -> 22017.577 | L24: =([1]Overview!$R$19/([1]Overview!$R$18+[1]Overview!$R$19))*Beneficiaries!J24 -> 24329.423 | N24: =(H24/[1]Overview!$G$6)*0.05 -> 45072.967 | O24: =([1]Overview!$R$18/([1]Overview!$R$18+[1]Overview!$R$19))*Beneficiaries!N24 -> 21412.336 | P24: =([1]Overview!$R$19/([1]Overview!$R$18+[1]Overview!$R$19))*Beneficiaries!N24 -> 23660.631 | S24: Adamawa | T24: Fufore | U24: 209460 | V24: 279900 | W24: 0.065886728 | X24: 1139.4805 | Y24: 1259.1259 | Z24: 2398.6064 | AB24: Osun | AC24: 4705589 | AD24: 0.024193205 | AE24: 40322
B25: Jigawa | C25: 105907 | D25: =($R$13/($R$14+$R$13))*C25 -> #DIV/0! | E25: =($R$14/($R$14+$R$13))*C25 -> #DIV/0! | G25: Jigawa | H25: 5828163 | I25: =H25/SUM($H$8:$H$44) -> 0.02996478 | J25: =ROUND(I25*[1]Overview!$G$7,0) -> 49941 | K25: =([1]Overview!$R$18/([1]Overview!$R$18+[1]Overview!$R$19))*Beneficiaries!J25 -> 23724.941 | L25: =([1]Overview!$R$19/([1]Overview!$R$18+[1]Overview!$R$19))*Beneficiaries!J25 -> 26216.059 | N25: =(H25/[1]Overview!$G$6)*0.05 -> 48568.025 | O25: =([1]Overview!$R$18/([1]Overview!$R$18+[1]Overview!$R$19))*Beneficiaries!N25 -> 23072.696 | P25: =([1]Overview!$R$19/([1]Overview!$R$18+[1]Overview!$R$19))*Beneficiaries!N25 -> 25495.329 | S25: Adamawa | T25: Ganye | U25: 169948 | V25: 227100 | W25: 0.053457935 | X25: 924.53023 | Y25: 1021.6059 | Z25: 1946.1361 | AB25: Nasarawa | AC25: 2523395 | AD25: 0.012973724 | AE25: 21623
B26: Kaduna | C26: 57053 | D26: =($R$13/($R$14+$R$13))*C26 -> #DIV/0! | E26: =($R$14/($R$14+$R$13))*C26 -> #DIV/0! | G26: Kaduna | H26: 8252366 | I26: =H26/SUM($H$8:$H$44) -> 0.04242852 | J26: =ROUND(I26*[1]Overview!$G$7,0) -> 70714 | K26: =([1]Overview!$R$18/([1]Overview!$R$18+[1]Overview!$R$19))*Beneficiaries!J26 -> 33593.349 | L26: =([1]Overview!$R$19/([1]Overview!$R$18+[1]Overview!$R$19))*Beneficiaries!J26 -> 37120.651 | N26: =(H26/[1]Overview!$G$6)*0.05 -> 68769.717 | O26: =([1]Overview!$R$18/([1]Overview!$R$18+[1]Overview!$R$19))*Beneficiaries!N26 -> 32669.699 | P26: =([1]Overview!$R$19/([1]Overview!$R$18+[1]Overview!$R$19))*Beneficiaries!N26 -> 36100.018 | S26: Adamawa | T26: Girei | U26: 129855 | V26: 173500 | W26: 0.040840827 | X26: 706.32318 | Y26: 780.48712 | Z26: 1486.8103 | AB26: Zamfara | AC26: 4515427 | AD26: 0.02321551 | AE26: 38693
B27: Kano | C27: 95083 | D27: =($R$13/($R$14+$R$13))*C27 -> #DIV/0! | E27: =($R$14/($R$14+$R$13))*C27 -> #DIV/0! | G27: Kano | H27: 13076892 | I27: =H27/SUM($H$8:$H$44) -> 0.067233225 | J27: =ROUND(I27*[1]Overview!$G$7,0) -> 112055 | K27: =([1]Overview!$R$18/([1]Overview!$R$18+[1]Overview!$R$19))*Beneficiaries!J27 -> 53232.779 | L27: =([1]Overview!$R$19/([1]Overview!$R$18+[1]Overview!$R$19))*Beneficiaries!J27 -> 58822.221 | N27: =(H27/[1]Overview!$G$6)*0.05 -> 108974.1 | O27: =([1]Overview!$R$18/([1]Overview!$R$18+[1]Overview!$R$19))*Beneficiaries!N27 -> 51769.169 | P27: =([1]Overview!$R$19/([1]Overview!$R$18+[1]Overview!$R$19))*Beneficiaries!N27 -> 57204.931 | S27: Adamawa | T27: Gombi | U27: 147787 | V27: 197500 | W27: 0.046490278 | X27: 804.02783 | Y27: 888.45075 | Z27: 1692.4786 | AB27: Phase 3
B28: Katsina | C28: 111049 | D28: =($R$13/($R$14+$R$13))*C28 -> #DIV/0! | E28: =($R$14/($R$14+$R$13))*C28 -> #DIV/0! | G28: Katsina | H28: 7831319 | I28: =H28/SUM($H$8:$H$44) -> 0.040263759 | J28: =ROUND(I28*[1]Overview!$G$7,0) -> 67106 | K28: =([1]Overview!$R$18/([1]Overview!$R$18+[1]Overview!$R$19))*Beneficiaries!J28 -> 31879.335 | L28: =([1]Overview!$R$19/([1]Overview!$R$18+[1]Overview!$R$19))*Beneficiaries!J28 -> 35226.665 | N28: =(H28/[1]Overview!$G$6)*0.05 -> 65260.992 | O28: =([1]Overview!$R$18/([1]Overview!$R$18+[1]Overview!$R$19))*Beneficiaries!N28 -> 31002.846 | P28: =([1]Overview!$R$19/([1]Overview!$R$18+[1]Overview!$R$19))*Beneficiaries!N28 -> 34258.145 | S28: Adamawa | T28: Guyuk | U28: 176505 | V28: 235900 | W28: 0.055529401 | X28: 960.35526 | Y28: 1061.1926 | Z28: 2021.5478 | AB28: Abia | AC28: 3727347 | AD28: 0.019163694 | AE28: 31939
B29: Kebbi | C29: 137678 | D29: =($R$13/($R$14+$R$13))*C29 -> #DIV/0! | E29: =($R$14/($R$14+$R$13))*C29 -> #DIV/0! | G29: Kebbi | H29: 4440050 | I29: =H29/SUM($H$8:$H$44) -> 0.022827969 | J29: =ROUND(I29*[1]Overview!$G$7,0) -> 38047 | K29: =([1]Overview!$R$18/([1]Overview!$R$18+[1]Overview!$R$19))*Beneficiaries!J29 -> 18074.584 | L29: =([1]Overview!$R$19/([1]Overview!$R$18+[1]Overview!$R$19))*Beneficiaries!J29 -> 19972.416 | N29: =(H29/[1]Overview!$G$6)*0.05 -> 37000.417 | O29: =([1]Overview!$R$18/([1]Overview!$R$18+[1]Overview!$R$19))*Beneficiaries!N29 -> 17577.395 | P29: =([1]Overview!$R$19/([1]Overview!$R$18+[1]Overview!$R$19))*Beneficiaries!N29 -> 19423.022 | S29: Adamawa | T29: Hong | U29: 169183 | V29: 226100 | W29: 0.053222541 | X29: 920.4592 | Y29: 1017.1074 | Z29: 1937.5666 | AB29: Adamawa | AC29: 4248436 | AD29: 0.021842809 | AE29: 36405
B30: Kogi | C30: 60730 | D30: =($R$13/($R$14+$R$13))*C30 -> #DIV/0! | E30: =($R$14/($R$14+$R$13))*C30 -> #DIV/0! | G30: Kogi | H30: 4473490 | I30: =H30/SUM($H$8:$H$44) -> 0.022999896 | J30: =ROUND(I30*[1]Overview!$G$7,0) -> 38333 | K30: =([1]Overview!$R$18/([1]Overview!$R$18+[1]Overview!$R$19))*Beneficiaries!J30 -> 18210.451 | L30: =([1]Overview!$R$19/([1]Overview!$R$18+[1]Overview!$R$19))*Beneficiaries!J30 -> 20122.549 | N30: =(H30/[1]Overview!$G$6)*0.05 -> 37279.083 | O30: =([1]Overview!$R$18/([1]Overview!$R$18+[1]Overview!$R$19))*Beneficiaries!N30 -> 17709.778 | P30: =([1]Overview!$R$19/([1]Overview!$R$18+[1]Overview!$R$19))*Beneficiaries!N30 -> 19569.305 | S30: Adamawa | T30: Jada | U30: 168445 | V30: 225100 | W30: 0.052987147 | X30: 916.38817 | Y30: 1012.6089 | Z30: 1928.9971 | AB30: Akwa Ibom | AC30: 5482177 | AD30: 0.028185936 | AE30: 46977
B31: Kwara | C31: 60535 | D31: =($R$13/($R$14+$R$13))*C31 -> #DIV/0! | E31: =($R$14/($R$14+$R$13))*C31 -> #DIV/0! | G31: Kwara | H31: 3192893 | I31: =H31/SUM($H$8:$H$44) -> 0.016415865 | J31: =ROUND(I31*[1]Overview!$G$7,0) -> 27360 | K31: =([1]Overview!$R$18/([1]Overview!$R$18+[1]Overview!$R$19))*Beneficiaries!J31 -> 12997.625 | L31: =([1]Overview!$R$19/([1]Overview!$R$18+[1]Overview!$R$19))*Beneficiaries!J31 -> 14362.375 | N31: =(H31/[1]Overview!$G$6)*0.05 -> 26607.442 | O31: =([1]Overview!$R$18/([1]Overview!$R$18+[1]Overview!$R$19))*Beneficiaries!N31 -> 12640.115 | P31: =([1]Overview!$R$19/([1]Overview!$R$18+[1]Overview!$R$19))*Beneficiaries!N31 -> 13967.327 | S31: Adamawa | T31: Lamurde | U31: 111254 | V31: 148700 | W31: 0.03500306 | X31: 605.36171 | Y31: 668.92469 | Z31: 1274.2864 | AB31: Anambra | AC31: 5527809 | AD31: 0.028420547 | AE31: 47368
B32: Lagos | C32: 9070 | D32: =($R$13/($R$14+$R$13))*C32 -> #DIV/0! | E32: =($R$14/($R$14+$R$13))*C32 -> #DIV/0! | G32: Lagos | H32: 12550598 | I32: =H32/SUM($H$8:$H$44) -> 0.064527349 | J32: =ROUND(I32*[1]Overview!$G$7,0) -> 107546 | K32: =([1]Overview!$R$18/([1]Overview!$R$18+[1]Overview!$R$19))*Beneficiaries!J32 -> 51090.736 | L32: =([1]Overview!$R$19/([1]Overview!$R$18+[1]Overview!$R$19))*Beneficiaries!J32 -> 56455.264 | N32: =(H32/[1]Overview!$G$6)*0.05 -> 104588.32 | O32: =([1]Overview!$R$18/([1]Overview!$R$18+[1]Overview!$R$19))*Beneficiaries!N32 -> 49685.661 | P32: =([1]Overview!$R$19/([1]Overview!$R$18+[1]Overview!$R$19))*Beneficiaries!N32 -> 54902.656 | S32: Adamawa | T32: Madagali | U32: 135142 | V32: 180600 | W32: 0.042512123 | X32: 735.22747 | Y32: 812.42636 | Z32: 1547.6538 | AB32: Bayelsa | AC32: 2277961 | AD32: 0.011711855 | AE32: 19520
B33: Nasarawa | C33: 94063 | D33: =($R$13/($R$14+$R$13))*C33 -> #DIV/0! | E33: =($R$14/($R$14+$R$13))*C33 -> #DIV/0! | G33: Nasarawa | H33: 2523395 | I33: =H33/SUM($H$8:$H$44) -> 0.012973724 | J33: =ROUND(I33*[1]Overview!$G$7,0) -> 21623 | K33: =([1]Overview!$R$18/([1]Overview!$R$18+[1]Overview!$R$19))*Beneficiaries!J33 -> 10272.209 | L33: =([1]Overview!$R$19/([1]Overview!$R$18+[1]Overview!$R$19))*Beneficiaries!J33 -> 11350.791 | N33: =(H33/[1]Overview!$G$6)*0.05 -> 21028.292 | O33: =([1]Overview!$R$18/([1]Overview!$R$18+[1]Overview!$R$19))*Beneficiaries!N33 -> 9989.6873 | P33: =([1]Overview!$R$19/([1]Overview!$R$18+[1]Overview!$R$19))*Beneficiaries!N33 -> 11038.604 | S33: Adamawa | T33: Maiha | U33: 110175 | V33: 147200 | W33: 0.034649969 | X33: 599.25517 | Y33: 662.17696 | Z33: 1261.4321 | AB33: Cross River | AC33: 3866269 | AD33: 0.019877944 | AE33: 33130
B34: Niger | C34: 40189 | D34: =($R$13/($R$14+$R$13))*C34 -> #DIV/0! | E34: =($R$14/($R$14+$R$13))*C34 -> #DIV/0! | G34: Niger | H34: 5556247 | I34: =H34/SUM($H$8:$H$44) -> 0.028566758 | J34: =ROUND(I34*[1]Overview!$G$7,0) -> 47611 | K34: =([1]Overview!$R$18/([1]Overview!$R$18+[1]Overview!$R$19))*Beneficiaries!J34 -> 22618.052 | L34: =([1]Overview!$R$19/([1]Overview!$R$18+[1]Overview!$R$19))*Beneficiaries!J34 -> 24992.948 | N34: =(H34/[1]Overview!$G$6)*0.05 -> 46302.058 | O34: =([1]Overview!$R$18/([1]Overview!$R$18+[1]Overview!$R$19))*Beneficiaries!N34 -> 21996.227 | P34: =([1]Overview!$R$19/([1]Overview!$R$18+[1]Overview!$R$19))*Beneficiaries!N34 -> 24305.831 | S34: Adamawa | T34: Mayo-Belwa | U34: 152803 | V34: 204200 | W34: 0.048067417 | X34: 831.30371 | Y34: 918.5906 | Z34: 1749.8943 | AB34: Delta | AC34: 5663262 | AD34: 0.029116962 | AE34: 48528
B35: Ogun* | C35: 18623 | D35: =($R$13/($R$14+$R$13))*C35 -> #DIV/0! | E35: =($R$14/($R$14+$R$13))*C35 -> #DIV/0! | G35: Ogun | H35: 5217716 | I35: =H35/SUM($H$8:$H$44) -> 0.026826242 | J35: =ROUND(I35*[1]Overview!$G$7,0) -> 44710 | K35: =([1]Overview!$R$18/([1]Overview!$R$18+[1]Overview!$R$19))*Beneficiaries!J35 -> 21239.905 | L35: =([1]Overview!$R$19/([1]Overview!$R$18+[1]Overview!$R$19))*Beneficiaries!J35 -> 23470.095 | N35: =(H35/[1]Overview!$G$6)*0.05 -> 43480.967 | O35: =([1]Overview!$R$18/([1]Overview!$R$18+[1]Overview!$R$19))*Beneficiaries!N35 -> 20656.041 | P35: =([1]Overview!$R$19/([1]Overview!$R$18+[1]Overview!$R$19))*Beneficiaries!N35 -> 22824.925 | S35: Adamawa | T35: Michika | U35: 155238 | V35: 207500 | W35: 0.048844216 | X35: 844.7381 | Y35: 933.4356 | Z35: 1778.1737 | AB35: Ebonyi | AC35: 2880383 | AD35: 0.014809133 | AE35: 24682
B36: Ondo | C36: 15905 | D36: =($R$13/($R$14+$R$13))*C36 -> #DIV/0! | E36: =($R$14/($R$14+$R$13))*C36 -> #DIV/0! | G36: Ondo | H36: 4671695 | I36: =H36/SUM($H$8:$H$44) -> 0.024018943 | J36: =ROUND(I36*[1]Overview!$G$7,0) -> 40032 | K36: =([1]Overview!$R$18/([1]Overview!$R$18+[1]Overview!$R$19))*Beneficiaries!J36 -> 19017.577 | L36: =([1]Overview!$R$19/([1]Overview!$R$18+[1]Overview!$R$19))*Beneficiaries!J36 -> 21014.423 | N36: =(H36/[1]Overview!$G$6)*0.05 -> 38930.792 | O36: =([1]Overview!$R$18/([1]Overview!$R$18+[1]Overview!$R$19))*Beneficiaries!N36 -> 18494.438 | P36: =([1]Overview!$R$19/([1]Overview!$R$18+[1]Overview!$R$19))*Beneficiaries!N36 -> 20436.354 | S36: Adamawa | T36: Mubi North | U36: 151515 | V36: 202500 | W36: 0.047667247 | X36: 824.38296 | Y36: 910.94317 | Z36: 1735.3261 | AB36: Gombe | AC36: 3256962 | AD36: 0.016745268 | AE36: 27909
B37: Osun | C37: 40801 | D37: =($R$13/($R$14+$R$13))*C37 -> #DIV/0! | E37: =($R$14/($R$14+$R$13))*C37 -> #DIV/0! | G37: Osun | H37: 4705589 | I37: =H37/SUM($H$8:$H$44) -> 0.024193205 | J37: =ROUND(I37*[1]Overview!$G$7,0) -> 40322 | K37: =([1]Overview!$R$18/([1]Overview!$R$18+[1]Overview!$R$19))*Beneficiaries!J37 -> 19155.344 | L37: =([1]Overview!$R$19/([1]Overview!$R$18+[1]Overview!$R$19))*Beneficiaries!J37 -> 21166.656 | N37: =(H37/[1]Overview!$G$6)*0.05 -> 39213.242 | O37: =([1]Overview!$R$18/([1]Overview!$R$18+[1]Overview!$R$19))*Beneficiaries!N37 -> 18628.618 | P37: =([1]Overview!$R$19/([1]Overview!$R$18+[1]Overview!$R$19))*Beneficiaries!N37 -> 20584.623 | S37: Adamawa | T37: Mubi South | U37: 129956 | V37: 173700 | W37: 0.040887905 | X37: 707.13739 | Y37: 781.38681 | Z37: 1488.5242 | AB37: Imo | AC37: 5408756 | AD37: 0.027808451 | AE37: 46347
B38: Oyo | C38: 17835 | D38: =($R$13/($R$14+$R$13))*C38 -> #DIV/0! | E38: =($R$14/($R$14+$R$13))*C38 -> #DIV/0! | G38: Oyo | H38: 7840864 | I38: =H38/SUM($H$8:$H$44) -> 0.040312834 | J38: =ROUND(I38*[1]Overview!$G$7,0) -> 67188 | K38: =([1]Overview!$R$18/([1]Overview!$R$18+[1]Overview!$R$19))*Beneficiaries!J38 -> 31918.29 | L38: =([1]Overview!$R$19/([1]Overview!$R$18+[1]Overview!$R$19))*Beneficiaries!J38 -> 35269.71 | N38: =(H38/[1]Overview!$G$6)*0.05 -> 65340.533 | O38: =([1]Overview!$R$18/([1]Overview!$R$18+[1]Overview!$R$19))*Beneficiaries!N38 -> 31040.633 | P38: =([1]Overview!$R$19/([1]Overview!$R$18+[1]Overview!$R$19))*Beneficiaries!N38 -> 34299.9 | S38: Adamawa | T38: Numan | U38: 91549 | V38: 122300 | W38: 0.028788663 | X38: 497.8866 | Y38: 550.16469 | Z38: 1048.0513 | AB38: Jigawa | AC38: 5828163 | AD38: 0.02996478 | AE38: 49941
B39: Plateau | C39: 98063 | D39: =($R$13/($R$14+$R$13))*C39 -> #DIV/0! | E39: =($R$14/($R$14+$R$13))*C39 -> #DIV/0! | G39: Plateau | H39: 4200442 | I39: =H39/SUM($H$8:$H$44) -> 0.021596054 | J39: =ROUND(I39*[1]Overview!$G$7,0) -> 35993 | K39: =([1]Overview!$R$18/([1]Overview!$R$18+[1]Overview!$R$19))*Beneficiaries!J39 -> 17098.812 | L39: =([1]Overview!$R$19/([1]Overview!$R$18+[1]Overview!$R$19))*Beneficiaries!J39 -> 18894.188 | N39: =(H39/[1]Overview!$G$6)*0.05 -> 35003.683 | O39: =([1]Overview!$R$18/([1]Overview!$R$18+[1]Overview!$R$19))*Beneficiaries!N39 -> 16628.828 | P39: =([1]Overview!$R$19/([1]Overview!$R$18+[1]Overview!$R$19))*Beneficiaries!N39 -> 18374.855 | S39: Adamawa | T39: Shelleng | U39: 148490 | V39: 198400 | W39: 0.046702133 | X39: 807.69175 | Y39: 892.49939 | Z39: 1700.1911 | AB39: Katsina | AC39: 7831319 | AD39: 0.040263759 | AE39: 67106
... B44: Zamfara | C44: 183253 | D44: =($R$13/($R$14+$R$13))*C44 -> #DIV/0! | E44: =($R$14/($R$14+$R$13))*C44 -> #DIV/0! | G44: Zamfara | H44: 4515427 | I44: =H44/SUM($H$8:$H$44) -> 0.02321551 | J44: =ROUND(I44*[1]Overview!$G$7,0) -> 38693 | K44: =([1]Overview!$R$18/([1]Overview!$R$18+[1]Overview!$R$19))*Beneficiaries!J44 -> 18381.473 | L44: =([1]Overview!$R$19/([1]Overview!$R$18+[1]Overview!$R$19))*Beneficiaries!J44 -> 20311.527 | N44: =(H44/[1]Overview!$G$6)*0.05 -> 37628.558 | O44: =([1]Overview!$R$18/([1]Overview!$R$18+[1]Overview!$R$19))*Beneficiaries!N44 -> 17875.8 | P44: =([1]Overview!$R$19/([1]Overview!$R$18+[1]Overview!$R$19))*Beneficiaries!N44 -> 19752.759 | S44: Akwa Ibom | T44: Abak | U44: 139069 | V44: 195400 | W44: 0.035643275 | X44: 795.44615 | Y44: 878.968 | Z44: 1674.4141 | AB44: Sokoto | AC44: 4998090 | AD44: 0.025697062 | AE44: 42828
D45: =SUM(D8:D44) -> #VALUE! | E45: =SUM(E8:E44) -> #DIV/0! | J45: =SUM(J8:J44) -> 1666667 | K45: =SUM(K8:K44) -> 791765.8 | L45: =SUM(L8:L44) -> 874901.2 | N45: =SUM(N8:N44) -> 1620837 | O45: =SUM(O8:O44) -> 769993.84 | P45: =SUM(P8:P44) -> 850843.19 | S45: Akwa Ibom | T45: Eastern Obolo | U45: 59970 | V45: 84300 | W45: 0.015377319 | X45: 343.17354 | Y45: 379.20677 | Z45: 722.38031 | AB45: Taraba | AC45: 3066834 | AD45: 0.015767748 | AE45: 26280
S46: Akwa Ibom | T46: Eket | U46: 172856 | V46: 242900 | W46: 0.044307838 | X46: 988.81203 | Y46: 1092.6373 | Z46: 2081.4493 | AB46: Yobe | AC46: 3294137 | AD46: 0.016936398 | AE46: 28227
...
